BEGIN:VCALENDAR
VERSION:2.0
PRODID:-//wp-events-plugin.com//6.3//EN
TZID:Europe/Paris
X-WR-TIMEZONE:Europe/Paris
BEGIN:VEVENT
UID:981@laroulottequimijote.fr
DTSTART;TZID=Europe/Paris:20260609T170000
DTEND;TZID=Europe/Paris:20260609T200000
DTSTAMP:20230820T062434Z
URL:https://www.laroulottequimijote.fr/event/bueil-2026-06-09/
SUMMARY:Bueil
DESCRIPTION:
LOCATION:Bueil\, Place de la Gare\, Bueil\, france\, 27730\, France
GEO:48.925654;1.44351
X-APPLE-STRUCTURED-LOCATION;VALUE=URI;X-ADDRESS=Place de la Gare\, Bueil\, 
 france\, 27730\, France;X-APPLE-RADIUS=100;X-TITLE=Bueil:geo:48.925654,1.4
 4351
END:VEVENT
BEGIN:VTIMEZONE
TZID:Europe/Paris
X-LIC-LOCATION:Europe/Paris
BEGIN:DAYLIGHT
DTSTART:20260329T030000
TZOFFSETFROM:+0100
TZOFFSETTO:+0200
TZNAME:CEST
END:DAYLIGHT
END:VTIMEZONE
END:VCALENDAR<!-- html is corrupted -->